BEGIN:VCALENDAR
VERSION:2.0
PRODID:-//TVC Backup - ECPv6.3.6//NONSGML v1.0//EN
CALSCALE:GREGORIAN
METHOD:PUBLISH
X-WR-CALNAME:TVC Backup
X-ORIGINAL-URL:https://backuptvc.deamaree.com
X-WR-CALDESC:Events for TVC Backup
REFRESH-INTERVAL;VALUE=DURATION:PT1H
X-Robots-Tag:noindex
X-PUBLISHED-TTL:PT1H
BEGIN:VTIMEZONE
TZID:America/Denver
BEGIN:DAYLIGHT
TZOFFSETFROM:-0700
TZOFFSETTO:-0600
TZNAME:MDT
DTSTART:20240310T090000
END:DAYLIGHT
BEGIN:STANDARD
TZOFFSETFROM:-0600
TZOFFSETTO:-0700
TZNAME:MST
DTSTART:20241103T080000
END:STANDARD
END:VTIMEZONE
BEGIN:VEVENT
DTSTART;TZID=America/Denver:20240824T170000
DTEND;TZID=America/Denver:20240824T210000
DTSTAMP:20260423T044335
CREATED:20240307T023229Z
LAST-MODIFIED:20240306T195540Z
UID:1129-1724518800-1724533200@backuptvc.deamaree.com
SUMMARY:Farm Dinner
DESCRIPTION:
URL:https://backuptvc.deamaree.com/event/farm-dinner/
LOCATION:TBA
CATEGORIES:Fundraisers
ATTACH;FMTTYPE=image/png:https://backuptvc.deamaree.com/wp-content/uploads/2024/03/farm_dinner.png
END:VEVENT
END:VCALENDAR